Workbook

Sheet Daily E-Ticket
H1: Tickets To: | I1: payroll@rsdstaffing.com
H2: Invoice To:
B3: www.rsdstaffing.com
B4: Phone: (863) 216-8960 | H4: Driver:
C5: Supervisor on site: | H5: Date:
C6: PO Number:
C7: Customer Name: | K7: {=IFERROR(INDEX(ASSIGN!$D$2:$D40, 1),"")}
A8: FALSE | B8: Check box when finished | D8: =IF($I$5="","",TEXT($I$5,"dddd, m/d/yyyy")) | I8: Total hours | J8: =SUM(H10:H34) | K8: =IF(AND($A$8=TRUE, COUNTIFS($C$10:$C$34,"<>",$B$10:$B$34,"",$H$10:$H$34,">0")>0),"UNMATCHED","")
B9: EMP ID | C9: LAST, FIRST NAME | D9: Start | E9: Lunch Out | F9: Lunch In | G9: End | H9: Hours | I9: Notes | J9: Per Diem | K9: PO
A10: =IF(C10="","",1) | B10: {=IFERROR(INDEX(ASSIGN!$B$2:$B40, MATCH(C10, ASSIGN!$C$2:$C40, 0)),"")} | H10: =IF(OR(D10="",G10=""),"",ROUND((G10-D10-IF(AND(E10<>"",F10<>""),F10-E10,0))*24,2))
A11: =IF(C11="","",2) | B11: {=IFERROR(INDEX(ASSIGN!$B$2:$B40, MATCH(C11, ASSIGN!$C$2:$C40, 0)),"")} | H11: =IF(OR(D11="",G11=""),"",ROUND((G11-D11-IF(AND(E11<>"",F11<>""),F11-E11,0))*24,2))
A12: =IF(C12="","",3) | B12: {=IFERROR(INDEX(ASSIGN!$B$2:$B40, MATCH(C12, ASSIGN!$C$2:$C40, 0)),"")} | H12: =IF(OR(D12="",G12=""),"",ROUND((G12-D12-IF(AND(E12<>"",F12<>""),F12-E12,0))*24,2))
A13: =IF(C13="","",4) | B13: {=IFERROR(INDEX(ASSIGN!$B$2:$B40, MATCH(C13, ASSIGN!$C$2:$C40, 0)),"")} | H13: =IF(OR(D13="",G13=""),"",ROUND((G13-D13-IF(AND(E13<>"",F13<>""),F13-E13,0))*24,2))
A14: =IF(C14="","",5) | B14: {=IFERROR(INDEX(ASSIGN!$B$2:$B40, MATCH(C14, ASSIGN!$C$2:$C40, 0)),"")} | H14: =IF(OR(D14="",G14=""),"",ROUND((G14-D14-IF(AND(E14<>"",F14<>""),F14-E14,0))*24,2))
A15: =IF(C15="","",6) | B15: {=IFERROR(INDEX(ASSIGN!$B$2:$B40, MATCH(C15, ASSIGN!$C$2:$C40, 0)),"")} | H15: =IF(OR(D15="",G15=""),"",ROUND((G15-D15-IF(AND(E15<>"",F15<>""),F15-E15,0))*24,2))
A16: =IF(C16="","",7) | B16: {=IFERROR(INDEX(ASSIGN!$B$2:$B40, MATCH(C16, ASSIGN!$C$2:$C40, 0)),"")} | H16: =IF(OR(D16="",G16=""),"",ROUND((G16-D16-IF(AND(E16<>"",F16<>""),F16-E16,0))*24,2))
A17: =IF(C17="","",8) | B17: {=IFERROR(INDEX(ASSIGN!$B$2:$B40, MATCH(C17, ASSIGN!$C$2:$C40, 0)),"")} | H17: =IF(OR(D17="",G17=""),"",ROUND((G17-D17-IF(AND(E17<>"",F17<>""),F17-E17,0))*24,2))
A18: =IF(C18="","",9) | B18: {=IFERROR(INDEX(ASSIGN!$B$2:$B40, MATCH(C18, ASSIGN!$C$2:$C40, 0)),"")} | H18: =IF(OR(D18="",G18=""),"",ROUND((G18-D18-IF(AND(E18<>"",F18<>""),F18-E18,0))*24,2))
A19: =IF(C19="","",10) | B19: {=IFERROR(INDEX(ASSIGN!$B$2:$B40, MATCH(C19, ASSIGN!$C$2:$C40, 0)),"")} | H19: =IF(OR(D19="",G19=""),"",ROUND((G19-D19-IF(AND(E19<>"",F19<>""),F19-E19,0))*24,2))
A20: =IF(C20="","",11) | B20: {=IFERROR(INDEX(ASSIGN!$B$2:$B40, MATCH(C20, ASSIGN!$C$2:$C40, 0)),"")} | H20: =IF(OR(D20="",G20=""),"",ROUND((G20-D20-IF(AND(E20<>"",F20<>""),F20-E20,0))*24,2))
A21: =IF(C21="","",12) | B21: {=IFERROR(INDEX(ASSIGN!$B$2:$B40, MATCH(C21, ASSIGN!$C$2:$C40, 0)),"")} | H21: =IF(OR(D21="",G21=""),"",ROUND((G21-D21-IF(AND(E21<>"",F21<>""),F21-E21,0))*24,2))
A22: =IF(C22="","",13) | B22: {=IFERROR(INDEX(ASSIGN!$B$2:$B40, MATCH(C22, ASSIGN!$C$2:$C40, 0)),"")} | H22: =IF(OR(D22="",G22=""),"",ROUND((G22-D22-IF(AND(E22<>"",F22<>""),F22-E22,0))*24,2))
A23: =IF(C23="","",14) | B23: {=IFERROR(INDEX(ASSIGN!$B$2:$B40, MATCH(C23, ASSIGN!$C$2:$C40, 0)),"")} | H23: =IF(OR(D23="",G23=""),"",ROUND((G23-D23-IF(AND(E23<>"",F23<>""),F23-E23,0))*24,2))
A24: =IF(C24="","",15) | B24: {=IFERROR(INDEX(ASSIGN!$B$2:$B40, MATCH(C24, ASSIGN!$C$2:$C40, 0)),"")} | H24: =IF(OR(D24="",G24=""),"",ROUND((G24-D24-IF(AND(E24<>"",F24<>""),F24-E24,0))*24,2))
A25: =IF(C25="","",16) | B25: {=IFERROR(INDEX(ASSIGN!$B$2:$B40, MATCH(C25, ASSIGN!$C$2:$C40, 0)),"")} | H25: =IF(OR(D25="",G25=""),"",ROUND((G25-D25-IF(AND(E25<>"",F25<>""),F25-E25,0))*24,2))
A26: =IF(C26="","",17) | B26: {=IFERROR(INDEX(ASSIGN!$B$2:$B40, MATCH(C26, ASSIGN!$C$2:$C40, 0)),"")} | H26: =IF(OR(D26="",G26=""),"",ROUND((G26-D26-IF(AND(E26<>"",F26<>""),F26-E26,0))*24,2))
A27: =IF(C27="","",18) | B27: {=IFERROR(INDEX(ASSIGN!$B$2:$B40, MATCH(C27, ASSIGN!$C$2:$C40, 0)),"")} | H27: =IF(OR(D27="",G27=""),"",ROUND((G27-D27-IF(AND(E27<>"",F27<>""),F27-E27,0))*24,2))
A28: =IF(C28="","",19) | B28: {=IFERROR(INDEX(ASSIGN!$B$2:$B40, MATCH(C28, ASSIGN!$C$2:$C40, 0)),"")} | H28: =IF(OR(D28="",G28=""),"",ROUND((G28-D28-IF(AND(E28<>"",F28<>""),F28-E28,0))*24,2))
A29: =IF(C29="","",20) | B29: {=IFERROR(INDEX(ASSIGN!$B$2:$B40, MATCH(C29, ASSIGN!$C$2:$C40, 0)),"")} | H29: =IF(OR(D29="",G29=""),"",ROUND((G29-D29-IF(AND(E29<>"",F29<>""),F29-E29,0))*24,2))
A30: =IF(C30="","",21) | B30: {=IFERROR(INDEX(ASSIGN!$B$2:$B40, MATCH(C30, ASSIGN!$C$2:$C40, 0)),"")} | H30: =IF(OR(D30="",G30=""),"",ROUND((G30-D30-IF(AND(E30<>"",F30<>""),F30-E30,0))*24,2))
A31: =IF(C31="","",22) | B31: {=IFERROR(INDEX(ASSIGN!$B$2:$B40, MATCH(C31, ASSIGN!$C$2:$C40, 0)),"")} | H31: =IF(OR(D31="",G31=""),"",ROUND((G31-D31-IF(AND(E31<>"",F31<>""),F31-E31,0))*24,2))
A32: =IF(C32="","",23) | B32: {=IFERROR(INDEX(ASSIGN!$B$2:$B40, MATCH(C32, ASSIGN!$C$2:$C40, 0)),"")} | H32: =IF(OR(D32="",G32=""),"",ROUND((G32-D32-IF(AND(E32<>"",F32<>""),F32-E32,0))*24,2))
A33: =IF(C33="","",24) | B33: {=IFERROR(INDEX(ASSIGN!$B$2:$B40, MATCH(C33, ASSIGN!$C$2:$C40, 0)),"")} | H33: =IF(OR(D33="",G33=""),"",ROUND((G33-D33-IF(AND(E33<>"",F33<>""),F33-E33,0))*24,2))
A34: =IF(C34="","",25) | B34: {=IFERROR(INDEX(ASSIGN!$B$2:$B40, MATCH(C34, ASSIGN!$C$2:$C40, 0)),"")} | H34: =IF(OR(D34="",G34=""),"",ROUND((G34-D34-IF(AND(E34<>"",F34<>""),F34-E34,0))*24,2))
B35: Totals | H35: =SUM(H10:H34)

Sheet ASSIGN
A1: EmployeeBranch | B1: EmployeeID | C1: EmployeeName | D1: CustomerID | E1: CustomerName | F1: DepartmentName | G1: JobTitle | H1: WCCode | I1: AssignmentID
