Workbook

Sheet Timesheet
H1: Tickets To: | J1: payroll@rsdstaffing.com
H2: Invoice To:
B3: www.rsdstaffing.com
B4: Phone: (863) 216-8960 | H4: Driver:
C5: Supervisor on site: | H5: W/E Date:
C6: PO Number:
C7: Customer Name: | L7: {=IFERROR(INDEX(ASSIGN!$D$2:$D40, 1),"")}
A8: FALSE | B8: Check box when finished | D8: =IF($J$5="","",TEXT($J$5-6,"m/d")) | E8: =IF($J$5="","",TEXT($J$5-5,"m/d")) | F8: =IF($J$5="","",TEXT($J$5-4,"m/d")) | G8: =IF($J$5="","",TEXT($J$5-3,"m/d")) | H8: =IF($J$5="","",TEXT($J$5-2,"m/d")) | I8: =IF($J$5="","",TEXT($J$5-1,"m/d")) | J8: =IF($J$5="","",TEXT($J$5-0,"m/d")) | L8: Total hours | M8: =SUM(K10:K34) | N8: =IF(AND($A$8=TRUE, COUNTIFS($C$10:$C$34,"<>",$B$10:$B$34,"",$K$10:$K$34,">0")>0),"UNMATCHED","")
B9: EMP ID | C9: LAST, FIRST NAME | D9: Monday | E9: Tuesday | F9: Wednesday | G9: Thursday | H9: Friday | I9: Saturday | J9: Sunday | K9: Hours | L9: Notes | M9: Per Diem | N9: PO
A10: =IF(C10="","",1) | B10: {=IFERROR(INDEX(ASSIGN!$B$2:$B40, MATCH(C10, ASSIGN!$C$2:$C40, 0)),"")} | K10: =IF(COUNT(D10:J10)=0,"",SUM(D10:J10))
A11: =IF(C11="","",2) | B11: {=IFERROR(INDEX(ASSIGN!$B$2:$B40, MATCH(C11, ASSIGN!$C$2:$C40, 0)),"")} | K11: =IF(COUNT(D11:J11)=0,"",SUM(D11:J11))
A12: =IF(C12="","",3) | B12: {=IFERROR(INDEX(ASSIGN!$B$2:$B40, MATCH(C12, ASSIGN!$C$2:$C40, 0)),"")} | K12: =IF(COUNT(D12:J12)=0,"",SUM(D12:J12))
A13: =IF(C13="","",4) | B13: {=IFERROR(INDEX(ASSIGN!$B$2:$B40, MATCH(C13, ASSIGN!$C$2:$C40, 0)),"")} | K13: =IF(COUNT(D13:J13)=0,"",SUM(D13:J13))
A14: =IF(C14="","",5) | B14: {=IFERROR(INDEX(ASSIGN!$B$2:$B40, MATCH(C14, ASSIGN!$C$2:$C40, 0)),"")} | K14: =IF(COUNT(D14:J14)=0,"",SUM(D14:J14))
A15: =IF(C15="","",6) | B15: {=IFERROR(INDEX(ASSIGN!$B$2:$B40, MATCH(C15, ASSIGN!$C$2:$C40, 0)),"")} | K15: =IF(COUNT(D15:J15)=0,"",SUM(D15:J15))
A16: =IF(C16="","",7) | B16: {=IFERROR(INDEX(ASSIGN!$B$2:$B40, MATCH(C16, ASSIGN!$C$2:$C40, 0)),"")} | K16: =IF(COUNT(D16:J16)=0,"",SUM(D16:J16))
A17: =IF(C17="","",8) | B17: {=IFERROR(INDEX(ASSIGN!$B$2:$B40, MATCH(C17, ASSIGN!$C$2:$C40, 0)),"")} | K17: =IF(COUNT(D17:J17)=0,"",SUM(D17:J17))
A18: =IF(C18="","",9) | B18: {=IFERROR(INDEX(ASSIGN!$B$2:$B40, MATCH(C18, ASSIGN!$C$2:$C40, 0)),"")} | K18: =IF(COUNT(D18:J18)=0,"",SUM(D18:J18))
A19: =IF(C19="","",10) | B19: {=IFERROR(INDEX(ASSIGN!$B$2:$B40, MATCH(C19, ASSIGN!$C$2:$C40, 0)),"")} | K19: =IF(COUNT(D19:J19)=0,"",SUM(D19:J19))
A20: =IF(C20="","",11) | B20: {=IFERROR(INDEX(ASSIGN!$B$2:$B40, MATCH(C20, ASSIGN!$C$2:$C40, 0)),"")} | K20: =IF(COUNT(D20:J20)=0,"",SUM(D20:J20))
A21: =IF(C21="","",12) | B21: {=IFERROR(INDEX(ASSIGN!$B$2:$B40, MATCH(C21, ASSIGN!$C$2:$C40, 0)),"")} | K21: =IF(COUNT(D21:J21)=0,"",SUM(D21:J21))
A22: =IF(C22="","",13) | B22: {=IFERROR(INDEX(ASSIGN!$B$2:$B40, MATCH(C22, ASSIGN!$C$2:$C40, 0)),"")} | K22: =IF(COUNT(D22:J22)=0,"",SUM(D22:J22))
A23: =IF(C23="","",14) | B23: {=IFERROR(INDEX(ASSIGN!$B$2:$B40, MATCH(C23, ASSIGN!$C$2:$C40, 0)),"")} | K23: =IF(COUNT(D23:J23)=0,"",SUM(D23:J23))
A24: =IF(C24="","",15) | B24: {=IFERROR(INDEX(ASSIGN!$B$2:$B40, MATCH(C24, ASSIGN!$C$2:$C40, 0)),"")} | K24: =IF(COUNT(D24:J24)=0,"",SUM(D24:J24))
A25: =IF(C25="","",16) | B25: {=IFERROR(INDEX(ASSIGN!$B$2:$B40, MATCH(C25, ASSIGN!$C$2:$C40, 0)),"")} | K25: =IF(COUNT(D25:J25)=0,"",SUM(D25:J25))
A26: =IF(C26="","",17) | B26: {=IFERROR(INDEX(ASSIGN!$B$2:$B40, MATCH(C26, ASSIGN!$C$2:$C40, 0)),"")} | K26: =IF(COUNT(D26:J26)=0,"",SUM(D26:J26))
A27: =IF(C27="","",18) | B27: {=IFERROR(INDEX(ASSIGN!$B$2:$B40, MATCH(C27, ASSIGN!$C$2:$C40, 0)),"")} | K27: =IF(COUNT(D27:J27)=0,"",SUM(D27:J27))
A28: =IF(C28="","",19) | B28: {=IFERROR(INDEX(ASSIGN!$B$2:$B40, MATCH(C28, ASSIGN!$C$2:$C40, 0)),"")} | K28: =IF(COUNT(D28:J28)=0,"",SUM(D28:J28))
A29: =IF(C29="","",20) | B29: {=IFERROR(INDEX(ASSIGN!$B$2:$B40, MATCH(C29, ASSIGN!$C$2:$C40, 0)),"")} | K29: =IF(COUNT(D29:J29)=0,"",SUM(D29:J29))
A30: =IF(C30="","",21) | B30: {=IFERROR(INDEX(ASSIGN!$B$2:$B40, MATCH(C30, ASSIGN!$C$2:$C40, 0)),"")} | K30: =IF(COUNT(D30:J30)=0,"",SUM(D30:J30))
A31: =IF(C31="","",22) | B31: {=IFERROR(INDEX(ASSIGN!$B$2:$B40, MATCH(C31, ASSIGN!$C$2:$C40, 0)),"")} | K31: =IF(COUNT(D31:J31)=0,"",SUM(D31:J31))
A32: =IF(C32="","",23) | B32: {=IFERROR(INDEX(ASSIGN!$B$2:$B40, MATCH(C32, ASSIGN!$C$2:$C40, 0)),"")} | K32: =IF(COUNT(D32:J32)=0,"",SUM(D32:J32))
A33: =IF(C33="","",24) | B33: {=IFERROR(INDEX(ASSIGN!$B$2:$B40, MATCH(C33, ASSIGN!$C$2:$C40, 0)),"")} | K33: =IF(COUNT(D33:J33)=0,"",SUM(D33:J33))
A34: =IF(C34="","",25) | B34: {=IFERROR(INDEX(ASSIGN!$B$2:$B40, MATCH(C34, ASSIGN!$C$2:$C40, 0)),"")} | K34: =IF(COUNT(D34:J34)=0,"",SUM(D34:J34))
B35: Daily totals | D35: =SUM(D10:D34) | E35: =SUM(E10:E34) | F35: =SUM(F10:F34) | G35: =SUM(G10:G34) | H35: =SUM(H10:H34) | I35: =SUM(I10:I34) | J35: =SUM(J10:J34) | K35: =SUM(K10:K34)

Sheet ASSIGN
A1: EmployeeBranch | B1: EmployeeID | C1: EmployeeName | D1: CustomerID | E1: CustomerName | F1: DepartmentName | G1: JobTitle | H1: WCCode | I1: AssignmentID
